Workbook
Name cf_levels: Internal_use!$B$6:$B$9
Name haz_name: Assessment!$B$7
Name mid_point_type: Assessment!$B$3
Name mid_point_type_values: Internal_use!$A$3

Sheet Assessment
A1: notes | B1: The unit (haz_unit) and the name of the hazard variable (y-axis of ember) need to be the same for all experts assessing a given risk (ember) => change only for the entire group.
A2: project_name | B2: A report containing embers
A3: mid_point_type | B3: Median | F3: =IF(Internal_use!$B$31,"Content is unfinished or contains an error Check the cells in red. Hints: - in some languages, decimal values need to be separated by a comma (not a dot); - you can't use a median without min and max","The sheet is valid (or empty).") -> The sheet is valid (or empty).
A4: haz_valid_top | B4: 4
A5: haz_valid_bottom | B5: 0
A6: haz_name_std | B6: GMSL
A7: haz_name | B7: =_xlfn.XLOOKUP($B$6,Internal_use!B11:B13,Internal_use!C11:C13) -> Global mean sea level increase
A8: haz_unit | B8: =_xlfn.XLOOKUP($B$6,Internal_use!B11:B13,Internal_use!F11:F13) -> m
B12: Name of ember (risk + adaptation level) | C12: Transition | D12: =_xlfn.CONCAT(haz_name," (",B8,")") -> Global mean sea level increase (m) | F12: Confidence (low/medium/high/very-high) | G12: Explanation details (specific to min /… / max) | H12: Explanation (about the whole transition) | I12: Description (of the risk assessed within this ember)
B13: A risk (low adaptation) | C13: Undetectable to Moderate | D13: Min
D14: =mid_point_type -> Median
D15: Max
C16: Moderate to High | D16: Min
D17: =mid_point_type -> Median
D18: Max
C19: High to Very High | D19: Min
D20: =mid_point_type -> Median
D21: Max

Sheet Information & instructions
A1: Expert elicitation towards building 'burning ember' diagrams
A2: Information & instructions
A3: This sheet contains a summary of information about embers and guidance for the related expert elicitation process. It is not assumed to provide all possible details: other documents are expected to be available for a more complete discussion. It is not intended to "replace" other documents, and the possiblity to remove this sheet could be discussed if it is so desired.
A4: info_version | B4: 45400
A6: Definitions of risks levels
A7: The table below defines the risk levels. Please read these definitions carefully : you will be asked to define levels of global mean temperature change (or other indicator of 'hazard') between which the risk level change, i.e. where it "transitions" from one level of risk to the next. This indirectly defines at which temperature there is a given level of risk.
A8: Level | B8: Undetectable (White) | C8: Moderate | D8: High | E8: Very High
C9: (Yellow) | D9: (Red) | E9: (Purple)
A10: Definition | B10: There are no impacts which are detectable and attributable to climate change. | C10: Impacts/risks are detectable and attributable to climate change with at least medium confidence, also accounting for other criteria for key risks (see below). | D10: Severe and widespread impacts that are judged to be high on one or more criteria for assessing key risk (see below). In short, risks are severe and affect a large number or proportion of population/area, but with some potential to adapt or recover. | E10: There is a very high probability of severe impacts /risks, with significant irreversibility or persistent climate hazards, combined with limited ability to adapt.
A11: Colour code
B12: Source : SRCCL chapter 7 section 7.2.1 "Assessing Risk" and figure 7.1, and AR6 chapter 16 section 16.6.2 and table 16.7. The criteria for assessing key risks include (IPCC AR6 WGII, chapter 16): - Magnitude of the consequences (related to pervasiveness, degree of change, irreversibility, potential for thresholds, cascading effects to other systems) - Likelihood of adverse consequences - Temporality / persistence, - Ability to respond to risk (including but not only through adaptation)
A14: Definitions of adaptation limits
A15: Embers may depend on the level the limits to adaptation being considered: soft limits or hard limits. Soft limits mean that options may exist but are currently not available to avoid intolerable risks through adaptive action. Soft limits may be due to socio-economic constraints. Hard limits mean that no adaptive actions are possible to avoid intolerable risks. When a natural system cannot adapt to a biophysical change, this is a hard limit. When possible, it is desirable to state the type of limits that will be considered in the definition of a given ember. If it is not done for the ember as a whole, you may indicate the type of limits that you considered as part of your "justification" cell associated to the related risk transition.
B16: Source : partly based on IPCC reports (...)
A18: Description of risk transitions
A20: The values that must be provided for each transition are - the minium risk level (start of the transition, in term of GMT (or possibly another 'hazard metric'), where the risk may become larger than the risk level before the transition) - the maximum risk level (end of the transition, where according to your assessment, the risk has unambiguously reached the next risk level). The min and max should be such that you are almost certain that the transition will occur in that range. Values outside that ranges do not need to be "physically impossible", but they should be outside you regard as reasonably plausible. Note that when your assessment will be combined with that of other experts, the range might be extended or narrowed in view of finding agreement, and then the level of confidence might be adjusted in order to reflect the achived level of agreement (see confidence levels below).
A21: Optinal "mid point" or "best guess" In addition, you may provide information on a "mid point" inside the transition, but this is regarded as optional. The objective is to convey the message that you assess the transition as being probably closer to either the min or the max, not just equally proable to occur anywhere between the min and max. There are two possible ways of doing this, and you may consider it with more or less technical detail. By default, the "mid point" is where you assess that the transition is most likely to occur (in a probability distribution, that would be called the "mode", but you do not need to take that into account). You may regard it as a "best guess" for the location of the transition. The usual meaning in statistics (maxium of the probability density) is illustrated in panel (a). If you provide a "most likely" value, it will be used in the process of aggregating expert's assessments in the form of a probability that the transition occurs at given levels. At a more detailed technical level, you may note that to draw the embers, your "most likely" value will be "translated" into a median (no burning ember has been built directly on the basis of a "most likely" value so far; technical information will be available on request). If you prefer, you may provide a median instead of most likely value. The median is the point where the risk level will be as likely to change below that point as above that point, as illustrated in panels (a) and (b) on the left. The practical interpretation is simple: a tentative estimate of the median is correct if you regard the proability that the transition will occur under that level as the same as the probability that it would occur above this level. To provide a median, select "median" in the second line of the "Assessment data" sheet. The median is used directly to draw embers: it is where the colour is made of 50% of the colour of the lower level and 50% of the upper level. In summary, there are 3 possibilities : no "mid-point" at all (you only provide the min and max), a "most likely value" (you have some indication of a best-guess but do not want to enter into more precise details, or explicitly want to have a 'most likely value'), or a median (you regard it as more appropriate and have enough data). (Sources: Panel (b) is inspired by SHELF (SHeffield ELicitation Framework); panel (a) is partly based on https://en.wikipedia.org/wiki/Median#/media/File:Visualisation_mode_median_mean.svg)
A25: Definition of confidence levels
A27: In IPCC terminology, a level of confidence synthesises the evaluation of the strenght of available evidence and the degree of agreement. A level of confidence is expressed using five qualifiers: “very low,” “low,” “medium,” “high,” and “very high.” The figure on the right summarises statements for evidence and agreement and their relationship to confidence. There is flexibility in this relationship (...) but increasing levels of evidence and degrees of agreement are correlated with increasing confidence. (...) Presentation of findings with “low” and “very low” confidence should be reserved for areas of major concern, and the reasons for their presentation should be carefully explained. Confidence should not be interpreted probabilistically, and it is distinct from “statistical confidence.” In the specific case of embers elicitation, you are asked to assess the level of confidence associated to your assessement for each of the transitions. This initial assessment of confidence will be revised by all participating experts together when their individual views will be combined, so as to account for the level of aggrement that will be reached.
A28: Source: Mastrandrea, et al. 2010: Guidance Note for Lead Authors of the IPCC Fifth Assessment Report on Consistent Treatment of Uncertainties. IPCC.

Sheet Metadata
A1: template_version | B1: 2026-07
A2: notes | B2: The format of this file, as well as the informations and instructions, are open to further improvement.

Sheet Internal_use
A1: Values for multiple choice responses
D2: Technical notes: To change "locked" cells, unlock the sheet: Tools > Protection > Remove sheet protection When this is done, you may change the lock status of cells : Format > protection. To change list of choices, change these below (haz_name_choices has a 3rd empty line, you may fill it). List of choices are managed through Data > Validation.
A3: mid_point_type_values | B3: Median
B4: Most likely
A6: confidence_level_choices | B6: low
B7: medium
B8: high
B9: very-high
A11: haz_name_choices | B11: GMT | C11: Global mean temperature increase above pre-industrial level | F11: °C
B12: GMSL | C12: Global mean sea level increase | F12: m
A19: Field validations | B19: (Value = 1 if there is an error)
C20: Contains text? | D20: Median but no min or max? | E20: => hazard level error
A21: Undetectable to Moderate | B21: Min | C21: =IF(OR(ISNUMBER(Assessment!$E13), ISBLANK(Assessment!$E13)),0,1) -> 0 | D21: =IF(AND(ISBLANK(Assessment!$E13),NOT(ISBLANK(Assessment!$E14))),1,0) -> 0 | E21: =IF((C21+D21)>0,1,0) -> 0
B22: Median | C22: =IF(OR(ISNUMBER(Assessment!$E14), ISBLANK(Assessment!$E14)),0,1) -> 0 | D22: 0 | E22: =IF((C22+D22)>0,1,0) -> 0
B23: Max | C23: =IF(OR(ISNUMBER(Assessment!$E15), ISBLANK(Assessment!$E15)),0,1) -> 0 | D23: =IF(AND(ISBLANK(Assessment!$E15),NOT(ISBLANK(Assessment!$E14))),1,0) -> 0 | E23: =IF((C23+D23)>0,1,0) -> 0
A24: Moderate to High | B24: Min | C24: =IF(OR(ISNUMBER(Assessment!$E16), ISBLANK(Assessment!$E16)),0,1) -> 0 | D24: =IF(AND(ISBLANK(Assessment!$E16),NOT(ISBLANK(Assessment!$E17))),1,0) -> 0 | E24: =IF((C24+D24)>0,1,0) -> 0
B25: Median | C25: =IF(OR(ISNUMBER(Assessment!$E17), ISBLANK(Assessment!$E17)),0,1) -> 0 | D25: 0 | E25: =IF((C25+D25)>0,1,0) -> 0
B26: Max | C26: =IF(OR(ISNUMBER(Assessment!$E18), ISBLANK(Assessment!$E18)),0,1) -> 0 | D26: =IF(AND(ISBLANK(Assessment!$E18),NOT(ISBLANK(Assessment!$E17))),1,0) -> 0 | E26: =IF((C26+D26)>0,1,0) -> 0
A27: High to Very High | B27: Min | C27: =IF(OR(ISNUMBER(Assessment!$E19), ISBLANK(Assessment!$E19)),0,1) -> 0 | D27: =IF(AND(ISBLANK(Assessment!$E19),NOT(ISBLANK(Assessment!$E20))),1,0) -> 0 | E27: =IF((C27+D27)>0,1,0) -> 0
B28: Median | C28: =IF(OR(ISNUMBER(Assessment!$E20), ISBLANK(Assessment!$E20)),0,1) -> 0 | D28: 0 | E28: =IF((C28+D28)>0,1,0) -> 0
B29: Max | C29: =IF(OR(ISNUMBER(Assessment!$E21), ISBLANK(Assessment!$E21)),0,1) -> 0 | D29: =IF(AND(ISBLANK(Assessment!$E21),NOT(ISBLANK(Assessment!$E20))),1,0) -> 0 | E29: =IF((C29+D29)>0,1,0) -> 0
A31: Aggregated error flag | B31: =IF(SUM(C21:D29)>0,1,0) -> 0
